BEGIN:VCALENDAR
VERSION:2.0
PRODID:-//envisionpartnerships.org//NONSGML kigkonsult.se iCalcreator 2.30.
 10//
CALSCALE:GREGORIAN
METHOD:PUBLISH
UID:3830c911-e126-4e9a-81a1-3b35eceda40b
X-WR-CALDESC:This 6th annual walk is for those who have lost a loved one to
  suicide. At this remembrance walk there are resource tables\, a speaker\,
  an area to write your loved ones name on yellow ribbons\, a moment of sil
 ence and names read and a walk in a healing space with battery operated ca
 ndles at sunset.
X-WR-RELCALID:7c82ce0a780a5167d309e422e21dc816
X-WR-TIMEZONE:America/Chicago
BEGIN:VTIMEZONE
TZID:America/Chicago
BEGIN:STANDARD
TZNAME:CST
DTSTART:20261101T020000
TZOFFSETFROM:-0500
TZOFFSETTO:-0600
RDATE:20271107T020000
RDATE:20281105T020000
END:STANDARD
BEGIN:DAYLIGHT
TZNAME:CDT
DTSTART:20270314T020000
TZOFFSETFROM:-0600
TZOFFSETTO:-0500
RDATE:20280312T020000
END:DAYLIGHT
END:VTIMEZONE
BEGIN:VEVENT
UID:a326e500-16f1-4482-a20a-65056bdaf38f
DTSTAMP:20260422T102232Z
DESCRIPTION:This 6th annual walk is for those who have lost a loved one to 
 suicide. At this remembrance walk there are resource tables\, a speaker\, 
 an area to write your loved ones name on yellow ribbons\, a moment of sile
 nce and names read and a walk in a healing space with battery operated can
 dles at sunset.
DTSTART;TZID=America/Chicago:20270905T183000
DTEND;TZID=America/Chicago:20270905T200000
LOCATION:1763 Hamilton Cleves Rd.\, Hamilton\, OH 45013 US
SUMMARY:Walk to Remember
END:VEVENT
END:VCALENDAR
