BEGIN:VCALENDAR
VERSION:2.0
PRODID:-//envisionpartnerships.org//NONSGML kigkonsult.se iCalcreator 2.30.
 10//
CALSCALE:GREGORIAN
METHOD:PUBLISH
UID:4d6988b1-3666-40d2-bf56-04af38affa27
X-WR-CALDESC:Connected community of support for survivors who have lost som
 eone to suicide or drug overdose
X-WR-RELCALID:7271d42eb634455e270bbfd6b53a77e7
X-WR-TIMEZONE:America/Chicago
BEGIN:VTIMEZONE
TZID:America/Chicago
BEGIN:STANDARD
TZNAME:CST
DTSTART:20261101T020000
TZOFFSETFROM:-0500
TZOFFSETTO:-0600
RDATE:20271107T020000
RDATE:20281105T020000
END:STANDARD
BEGIN:DAYLIGHT
TZNAME:CDT
DTSTART:20270314T020000
TZOFFSETFROM:-0600
TZOFFSETTO:-0500
RDATE:20280312T020000
END:DAYLIGHT
END:VTIMEZONE
BEGIN:VEVENT
UID:074a38b7-c41c-48c8-9985-f26ea563cd89
DTSTAMP:20260422T085229Z
DESCRIPTION:Connected community of support for survivors who have lost some
 one to suicide or drug overdose
DTSTART;TZID=America/Chicago:20270817T183000
DTEND;TZID=America/Chicago:20270817T200000
LOCATION:Envision Partnerships\, 2935 Hamilton Mason Road\, Hamilton\, OH 4
 5011 US
SUMMARY:LOSS/DOSS Grief Support Group
END:VEVENT
END:VCALENDAR
