BEGIN:VCALENDAR
VERSION:2.0
PRODID:-//envisionpartnerships.org//NONSGML kigkonsult.se iCalcreator 2.30.
 10//
CALSCALE:GREGORIAN
METHOD:PUBLISH
UID:ab256531-a85e-4dfd-bce8-89aa2e29363a
X-WR-CALDESC:Connected community of support for survivors who have lost som
 eone to suicide or drug overdose
X-WR-RELCALID:a88a2891cde87703c28b1fc1f041b9b0
X-WR-TIMEZONE:America/Chicago
BEGIN:VTIMEZONE
TZID:America/Chicago
BEGIN:STANDARD
TZNAME:CST
DTSTART:20261101T020000
TZOFFSETFROM:-0500
TZOFFSETTO:-0600
RDATE:20271107T020000
RDATE:20281105T020000
END:STANDARD
BEGIN:DAYLIGHT
TZNAME:CDT
DTSTART:20270314T020000
TZOFFSETFROM:-0600
TZOFFSETTO:-0500
RDATE:20280312T020000
END:DAYLIGHT
END:VTIMEZONE
BEGIN:VEVENT
UID:aefc5fe1-b9fd-41b5-b2cc-1d647a630298
DTSTAMP:20260422T071226Z
DESCRIPTION:Connected community of support for survivors who have lost some
 one to suicide or drug overdose
DTSTART;TZID=America/Chicago:20270720T183000
DTEND;TZID=America/Chicago:20270720T200000
LOCATION:Envision Partnerships\, 2935 Hamilton Mason Road\, Hamilton\, OH 4
 5011 US
SUMMARY:LOSS/DOSS Grief Support Group
END:VEVENT
END:VCALENDAR
