BEGIN:VCALENDAR
VERSION:2.0
PRODID:-//envisionpartnerships.org//NONSGML kigkonsult.se iCalcreator 2.30.
 10//
CALSCALE:GREGORIAN
METHOD:PUBLISH
UID:7594400a-de9b-46cc-83e1-5e72fd758a5a
X-WR-CALDESC:Connected community of support for survivors who have lost som
 eone to suicide or drug overdose
X-WR-RELCALID:8a97a1aa381933d8663a8507c6cee3b2
X-WR-TIMEZONE:America/Chicago
BEGIN:VTIMEZONE
TZID:America/Chicago
BEGIN:STANDARD
TZNAME:CST
DTSTART:20261101T020000
TZOFFSETFROM:-0500
TZOFFSETTO:-0600
RDATE:20271107T020000
END:STANDARD
BEGIN:DAYLIGHT
TZNAME:CDT
DTSTART:20270314T020000
TZOFFSETFROM:-0600
TZOFFSETTO:-0500
RDATE:20280312T020000
END:DAYLIGHT
END:VTIMEZONE
BEGIN:VEVENT
UID:8b927c93-8fcd-4fcc-ad8e-1b0850eeec90
DTSTAMP:20260422T012934Z
DESCRIPTION:Connected community of support for survivors who have lost some
 one to suicide or drug overdose
DTSTART;TZID=America/Chicago:20270316T183000
DTEND;TZID=America/Chicago:20270316T200000
LOCATION:Envision Partnerships\, 2935 Hamilton Mason Road\, Hamilton\, OH 4
 5011 US
SUMMARY:LOSS/DOSS Grief Support Group
END:VEVENT
END:VCALENDAR
