BEGIN:VCALENDAR
VERSION:2.0
PRODID:-//envisionpartnerships.org//NONSGML kigkonsult.se iCalcreator 2.30.
 10//
CALSCALE:GREGORIAN
METHOD:PUBLISH
UID:c3d78d21-41e6-4115-820c-2b970a5ea35f
X-WR-CALDESC:Connected community of support for survivors who have lost som
 eone to suicide or drug overdose
X-WR-RELCALID:76876830c77e1da7b36febfc4f759dd2
X-WR-TIMEZONE:America/Chicago
BEGIN:VTIMEZONE
TZID:America/Chicago
BEGIN:STANDARD
TZNAME:CST
DTSTART:20261101T020000
TZOFFSETFROM:-0500
TZOFFSETTO:-0600
RDATE:20271107T020000
END:STANDARD
BEGIN:DAYLIGHT
TZNAME:CDT
DTSTART:20260308T020000
TZOFFSETFROM:-0600
TZOFFSETTO:-0500
RDATE:20270314T020000
RDATE:20280312T020000
END:DAYLIGHT
END:VTIMEZONE
BEGIN:VEVENT
UID:f1d250d6-c47e-494a-b974-e45afd1cc2f7
DTSTAMP:20260421T213826Z
DESCRIPTION:Connected community of support for survivors who have lost some
 one to suicide or drug overdose
DTSTART;TZID=America/Chicago:20261215T183000
DTEND;TZID=America/Chicago:20261215T200000
LOCATION:Envision Partnerships\, 2935 Hamilton Mason Road\, Hamilton\, OH 4
 5011 US
SUMMARY:LOSS/DOSS Grief Support Group
END:VEVENT
END:VCALENDAR
