BEGIN:VCALENDAR
VERSION:2.0
PRODID:-//envisionpartnerships.org//NONSGML kigkonsult.se iCalcreator 2.30.
 10//
CALSCALE:GREGORIAN
METHOD:PUBLISH
UID:67f5f719-9402-4753-b18a-31b7ea75b79f
X-WR-CALDESC:Connected community of support for survivors who have lost som
 eone to suicide or drug overdose
X-WR-RELCALID:6b04a7c138d36f1e7645d060c10bfa02
X-WR-TIMEZONE:America/Chicago
BEGIN:VTIMEZONE
TZID:America/Chicago
BEGIN:STANDARD
TZNAME:CST
DTSTART:20251102T020000
TZOFFSETFROM:-0500
TZOFFSETTO:-0600
RDATE:20261101T020000
RDATE:20271107T020000
END:STANDARD
BEGIN:DAYLIGHT
TZNAME:CDT
DTSTART:20260308T020000
TZOFFSETFROM:-0600
TZOFFSETTO:-0500
RDATE:20270314T020000
RDATE:20280312T020000
END:DAYLIGHT
END:VTIMEZONE
BEGIN:VEVENT
UID:b9c50e24-56c6-4256-ad73-950b59ff82af
DTSTAMP:20260421T190045Z
DESCRIPTION:Connected community of support for survivors who have lost some
 one to suicide or drug overdose
DTSTART;TZID=America/Chicago:20261020T183000
DTEND;TZID=America/Chicago:20261020T200000
LOCATION:Envision Partnerships\, 2935 Hamilton Mason Road\, Hamilton\, OH 4
 5011 US
SUMMARY:LOSS/DOSS Grief Support Group
END:VEVENT
END:VCALENDAR
