BEGIN:VCALENDAR
VERSION:2.0
PRODID:-//envisionpartnerships.org//NONSGML kigkonsult.se iCalcreator 2.30.
 10//
CALSCALE:GREGORIAN
METHOD:PUBLISH
UID:da57dbe2-c10b-47c4-a787-7f07a7380385
X-WR-CALDESC:This 6th annual walk is for those who have lost a loved one to
  suicide. At this remembrance walk there are resource tables\, a speaker\,
  an area to write your loved ones name on yellow ribbons\, a moment of sil
 ence and names read and a walk in a healing space with battery operated ca
 ndles at sunset.
X-WR-RELCALID:08bf4716586e0954c224e84ff9ade846
X-WR-TIMEZONE:America/Chicago
BEGIN:VTIMEZONE
TZID:America/Chicago
BEGIN:STANDARD
TZNAME:CST
DTSTART:20251102T020000
TZOFFSETFROM:-0500
TZOFFSETTO:-0600
RDATE:20261101T020000
RDATE:20271107T020000
END:STANDARD
BEGIN:DAYLIGHT
TZNAME:CDT
DTSTART:20260308T020000
TZOFFSETFROM:-0600
TZOFFSETTO:-0500
RDATE:20270314T020000
END:DAYLIGHT
END:VTIMEZONE
BEGIN:VEVENT
UID:5e59b9a7-2a57-4ce2-b81e-b48964d3e109
DTSTAMP:20260421T165804Z
DESCRIPTION:This 6th annual walk is for those who have lost a loved one to 
 suicide. At this remembrance walk there are resource tables\, a speaker\, 
 an area to write your loved ones name on yellow ribbons\, a moment of sile
 nce and names read and a walk in a healing space with battery operated can
 dles at sunset.
DTSTART;TZID=America/Chicago:20260905T183000
DTEND;TZID=America/Chicago:20260905T200000
LOCATION:1763 Hamilton Cleves Rd.\, Hamilton\, OH 45013 US
SUMMARY:Walk to Remember
END:VEVENT
END:VCALENDAR
