BEGIN:VCALENDAR
VERSION:2.0
PRODID:-//envisionpartnerships.org//NONSGML kigkonsult.se iCalcreator 2.30.
 10//
CALSCALE:GREGORIAN
METHOD:PUBLISH
UID:479abf13-2f4b-4a22-959b-5bcf27183dad
X-WR-CALDESC:QPR\, or Question\, Persuade\, Refer\, is an effective tool to
  help someone in a mental health crisis. In just 90 minutes\, any person c
 an learn the skills and confidence they need to intervene and get that per
 son to professional help. This free event is open to any adult.
X-WR-RELCALID:1f16fc55b4a2c017f9b4f418d6121ab3
X-WR-TIMEZONE:America/New_York
BEGIN:VTIMEZONE
TZID:America/New_York
BEGIN:STANDARD
TZNAME:EST
DTSTART:20251102T020000
TZOFFSETFROM:-0400
TZOFFSETTO:-0500
RDATE:20261101T020000
END:STANDARD
BEGIN:DAYLIGHT
TZNAME:EDT
DTSTART:20250309T020000
TZOFFSETFROM:-0500
TZOFFSETTO:-0400
RDATE:20260308T020000
RDATE:20270314T020000
END:DAYLIGHT
END:VTIMEZONE
BEGIN:VEVENT
UID:b21780c5-0a26-4520-beac-f22f5233bba8
DTSTAMP:20260421T093555Z
DESCRIPTION:QPR\, or Question\, Persuade\, Refer\, is an effective tool to 
 help someone in a mental health crisis. In just 90 minutes\, any person ca
 n learn the skills and confidence they need to intervene and get that pers
 on to professional help. This free event is open to any adult.
DTSTART;TZID=America/New_York:20260224T120000
DTEND;TZID=America/New_York:20260224T133000
LOCATION:https://us02web.zoom.us/meeting/register/mRLK29NdQ7SFd75yKT7PVQ
SUMMARY:QPR Suicide Prevention Virtual Training
END:VEVENT
END:VCALENDAR
