BEGIN:VCALENDAR
VERSION:2.0
PRODID:-//envisionpartnerships.org//NONSGML kigkonsult.se iCalcreator 2.30.
 10//
CALSCALE:GREGORIAN
METHOD:PUBLISH
UID:e3d5c8ef-6110-445e-99f0-2269a7004769
X-WR-CALDESC:September is Suicide Prevention Month. The Butler County Suici
 de Prevention Coalition invites you to join others in the community to lea
 rn warning signs of suicidal ideation\, help those in a mental health cris
 is and have a community conversation on how we can break down stigma in ou
 r community. \nThis is a two-part series that include QPR Gatekeeper Train
 ing\, Warning Signs\, and Local Resources. Part two will consist of a comm
 unity conversation on mental health. \nTo Register for the two-part series
 \, click the link below!
X-WR-RELCALID:0d0a67da0742c99e5db85a8f616f8df6
X-WR-TIMEZONE:America/Chicago
BEGIN:VTIMEZONE
TZID:America/Chicago
BEGIN:STANDARD
TZNAME:CST
DTSTART:20211107T020000
TZOFFSETFROM:-0500
TZOFFSETTO:-0600
RDATE:20221106T020000
RDATE:20231105T020000
END:STANDARD
BEGIN:DAYLIGHT
TZNAME:CDT
DTSTART:20220313T020000
TZOFFSETFROM:-0600
TZOFFSETTO:-0500
RDATE:20230312T020000
RDATE:20240310T020000
END:DAYLIGHT
END:VTIMEZONE
BEGIN:VEVENT
UID:372da419-d0fb-4f80-9c78-e0c8beb1395e
DTSTAMP:20260425T195651Z
DESCRIPTION:September is Suicide Prevention Month. The Butler County Suicid
 e Prevention Coalition invites you to join others in the community to lear
 n warning signs of suicidal ideation\, help those in a mental health crisi
 s and have a community conversation on how we can break down stigma in our
  community. \nThis is a two-part series that include QPR Gatekeeper Traini
 ng\, Warning Signs\, and Local Resources. Part two will consist of a commu
 nity conversation on mental health. \nTo Register for the two-part series\
 , click the link below!
DTSTART;TZID=America/Chicago:20220928T180000
DTEND;TZID=America/Chicago:20220928T200000
LOCATION:6590 Walden Ponds Circle \, Hamilton \, OH 45011 US
SUMMARY:Community Mental Health Series: Part 1
END:VEVENT
END:VCALENDAR
