BEGIN:VCALENDAR
VERSION:2.0
PRODID:-//envisionpartnerships.org//NONSGML kigkonsult.se iCalcreator 2.30.
 10//
CALSCALE:GREGORIAN
METHOD:PUBLISH
UID:97e4feaf-8ee4-4e13-951d-4b5b14963568
X-WR-CALDESC:Are you interested in making a positive impact within your loc
 al community? \nWe are looking for a group of 10 youth and 5 adult residen
 ts across Butler County to create change by working together to address su
 bstance use and mental health within the county. Join this informational s
 ession to learn about the goal of the collective\, the application process
 \, time commitment\, and types of involvement. \nOn October 1st\, the Agen
 ts of Change Application Opens. On October 26th\, the Agents of Change App
 lication Closes. \n
X-WR-RELCALID:7db9ae5d698184949dbc722abd5076ca
X-WR-TIMEZONE:America/Chicago
BEGIN:VTIMEZONE
TZID:America/Chicago
BEGIN:STANDARD
TZNAME:CST
DTSTART:20211107T020000
TZOFFSETFROM:-0500
TZOFFSETTO:-0600
RDATE:20221106T020000
RDATE:20231105T020000
END:STANDARD
BEGIN:DAYLIGHT
TZNAME:CDT
DTSTART:20220313T020000
TZOFFSETFROM:-0600
TZOFFSETTO:-0500
RDATE:20230312T020000
RDATE:20240310T020000
END:DAYLIGHT
END:VTIMEZONE
BEGIN:VEVENT
UID:e9a9f0d7-9918-4476-8267-767c7b5b54a2
DTSTAMP:20260425T165410Z
DESCRIPTION:Are you interested in making a positive impact within your loca
 l community? \nWe are looking for a group of 10 youth and 5 adult resident
 s across Butler County to create change by working together to address sub
 stance use and mental health within the county. Join this informational se
 ssion to learn about the goal of the collective\, the application process\
 , time commitment\, and types of involvement. \nOn October 1st\, the Agent
 s of Change Application Opens. On October 26th\, the Agents of Change Appl
 ication Closes. \n
DTSTART;TZID=America/Chicago:20220928T130000
DTEND;TZID=America/Chicago:20220928T140000
LOCATION:https://zoom.us/meeting/register/tJcodeyorzMvGNPtdxorG9FlRyGveDrcB
 Rth
SUMMARY:Agents of Change Adult Information Session
END:VEVENT
END:VCALENDAR
