BEGIN:VCALENDAR
VERSION:2.0
PRODID:-//envisionpartnerships.org//NONSGML kigkonsult.se iCalcreator 2.30.
 10//
CALSCALE:GREGORIAN
METHOD:PUBLISH
UID:1a04b86a-b2eb-483f-99f9-b097e9c64502
X-WR-CALDESC:QPR\, or Question. Persuade. Refer. is an effective training t
 hat will prepare the participant to get someone in a mental health crisis 
 to help. This training is intended for adults. There is a youth-specific t
 raining that we also offer.
X-WR-RELCALID:4939251da4c06bee188910e9d0cc4bcd
X-WR-TIMEZONE:America/Chicago
BEGIN:VTIMEZONE
TZID:America/Chicago
BEGIN:STANDARD
TZNAME:CST
DTSTART:20201101T020000
TZOFFSETFROM:-0500
TZOFFSETTO:-0600
RDATE:20211107T020000
RDATE:20221106T020000
END:STANDARD
BEGIN:DAYLIGHT
TZNAME:CDT
DTSTART:20210314T020000
TZOFFSETFROM:-0600
TZOFFSETTO:-0500
RDATE:20220313T020000
END:DAYLIGHT
END:VTIMEZONE
BEGIN:VEVENT
UID:b47455f0-8e4f-40ee-98e7-43cabb73713c
DTSTAMP:20260420T161142Z
DESCRIPTION:QPR\, or Question. Persuade. Refer. is an effective training th
 at will prepare the participant to get someone in a mental health crisis t
 o help. This training is intended for adults. There is a youth-specific tr
 aining that we also offer.
DTSTART;TZID=America/Chicago:20210527T130000
DTEND;TZID=America/Chicago:20210527T143000
LOCATION:Webinar
SUMMARY:Suicide Prevention QPR Training
END:VEVENT
END:VCALENDAR
