BEGIN:VCALENDAR
VERSION:2.0
PRODID:-//envisionpartnerships.org//NONSGML kigkonsult.se iCalcreator 2.30.
 10//
CALSCALE:GREGORIAN
METHOD:PUBLISH
UID:291cbc92-6f5c-4163-a5e3-bef3cc4800ab
X-WR-CALDESC:QPR\, or Question. Persuade. Refer. is an effective training t
 hat will prepare the participant to get someone in a mental health crisis 
 to help. This training is intended for adults. There is a youth-specific t
 raining that we also offer.
X-WR-RELCALID:0e6207623b85d6683b2c5ba36a4acefe
X-WR-TIMEZONE:America/Chicago
BEGIN:VTIMEZONE
TZID:America/Chicago
BEGIN:STANDARD
TZNAME:CST
DTSTART:20201101T020000
TZOFFSETFROM:-0500
TZOFFSETTO:-0600
RDATE:20211107T020000
RDATE:20221106T020000
END:STANDARD
BEGIN:DAYLIGHT
TZNAME:CDT
DTSTART:20210314T020000
TZOFFSETFROM:-0600
TZOFFSETTO:-0500
RDATE:20220313T020000
END:DAYLIGHT
END:VTIMEZONE
BEGIN:VEVENT
UID:63b507fd-ef4d-4abb-857a-b6e743b914d9
DTSTAMP:20260420T161141Z
DESCRIPTION:QPR\, or Question. Persuade. Refer. is an effective training th
 at will prepare the participant to get someone in a mental health crisis t
 o help. This training is intended for adults. There is a youth-specific tr
 aining that we also offer.
DTSTART;TZID=America/Chicago:20210512T090000
DTEND;TZID=America/Chicago:20210512T103000
LOCATION:Webinar
SUMMARY:Suicide Prevention QPR Training
END:VEVENT
END:VCALENDAR
