BEGIN:VCALENDAR
VERSION:2.0
PRODID:-//envisionpartnerships.org//NONSGML kigkonsult.se iCalcreator 2.30.
 10//
CALSCALE:GREGORIAN
METHOD:PUBLISH
UID:e371b955-b7ba-4d87-b90e-97222123485d
X-WR-CALDESC:join us for a community clean up effort\, a Healthy Hamilton e
 vent\, on May 1st. We will meet at Marcum Park at 10am and spread our clea
 ning efforts beyond the park and under the High-Main bridge. We are rentin
 g The Cube\, so will provide what you need\, but we do recommend you bring
  your own facemask & sunscreen. Lunch will be provided afterwards as well!
X-WR-RELCALID:2fdde4d463817acb59780cdfe6e7f223
X-WR-TIMEZONE:America/Chicago
BEGIN:VTIMEZONE
TZID:America/Chicago
BEGIN:STANDARD
TZNAME:CST
DTSTART:20201101T020000
TZOFFSETFROM:-0500
TZOFFSETTO:-0600
RDATE:20211107T020000
END:STANDARD
BEGIN:DAYLIGHT
TZNAME:CDT
DTSTART:20210314T020000
TZOFFSETFROM:-0600
TZOFFSETTO:-0500
RDATE:20220313T020000
END:DAYLIGHT
END:VTIMEZONE
BEGIN:VEVENT
UID:eef13cc6-b107-416b-9c55-b11c53c98c72
DTSTAMP:20260420T160738Z
DESCRIPTION:join us for a community clean up effort\, a Healthy Hamilton ev
 ent\, on May 1st. We will meet at Marcum Park at 10am and spread our clean
 ing efforts beyond the park and under the High-Main bridge. We are renting
  The Cube\, so will provide what you need\, but we do recommend you bring 
 your own facemask & sunscreen. Lunch will be provided afterwards as well!
DTSTART;TZID=America/Chicago:20210501T100000
DTEND;TZID=America/Chicago:20210501T130000
LOCATION:115 Dayton Street \, Hamilton \, OH 45011 US
SUMMARY:Envision a Healthy Hamilton- Trash Pick up Day
END:VEVENT
END:VCALENDAR
