BEGIN:VCALENDAR
VERSION:2.0
PRODID:-//envisionpartnerships.org//NONSGML kigkonsult.se iCalcreator 2.30.
 10//
CALSCALE:GREGORIAN
METHOD:PUBLISH
UID:4c5fcf19-abff-4fb1-926a-87b2fad32e96
X-WR-CALDESC:Through suicide-awareness events and trainings\, BCSPC seeks t
 o reduce the stigma surrounding mental health and suicide within communiti
 es.
X-WR-RELCALID:d899d35984dc82ff9a52c3a20effea54
X-WR-TIMEZONE:America/Chicago
BEGIN:VTIMEZONE
TZID:America/Chicago
BEGIN:STANDARD
TZNAME:CST
DTSTART:20201101T020000
TZOFFSETFROM:-0500
TZOFFSETTO:-0600
RDATE:20211107T020000
END:STANDARD
BEGIN:DAYLIGHT
TZNAME:CDT
DTSTART:20210314T020000
TZOFFSETFROM:-0600
TZOFFSETTO:-0500
RDATE:20220313T020000
END:DAYLIGHT
END:VTIMEZONE
BEGIN:VEVENT
UID:70eb7c8f-7fe8-4a3c-b35a-64603c55d336
DTSTAMP:20260420T174049Z
DESCRIPTION:Through suicide-awareness events and trainings\, BCSPC seeks to
  reduce the stigma surrounding mental health and suicide within communitie
 s.
DTSTART;TZID=America/Chicago:20210408T150000
DTEND;TZID=America/Chicago:20210408T163000
LOCATION:Meeting
SUMMARY:Butler County Suicide Prevention Coalition Meeting
END:VEVENT
END:VCALENDAR
