BEGIN:VCALENDAR
VERSION:2.0
PRODID:-//envisionpartnerships.org//NONSGML kigkonsult.se iCalcreator 2.30.
 10//
CALSCALE:GREGORIAN
METHOD:PUBLISH
UID:36dee1c7-6fac-4020-bd38-49c4a307f5cf
X-WR-CALDESC:PAX Tools is a collection of trauma-informed\, evidence-based 
 behavioral strategies for families and communities to promote the developm
 ent of self-regulation of children in their lives. Caregivers who particip
 ate in these workshops receive materials they need to effectively use PAX 
 Tools with youth.
X-WR-RELCALID:7cb87b8921fa8a56fdbb6d7e628ca9b1
X-WR-TIMEZONE:America/Chicago
BEGIN:VTIMEZONE
TZID:America/Chicago
BEGIN:STANDARD
TZNAME:CST
DTSTART:20201101T020000
TZOFFSETFROM:-0500
TZOFFSETTO:-0600
RDATE:20211107T020000
END:STANDARD
BEGIN:DAYLIGHT
TZNAME:CDT
DTSTART:20210314T020000
TZOFFSETFROM:-0600
TZOFFSETTO:-0500
RDATE:20220313T020000
END:DAYLIGHT
END:VTIMEZONE
BEGIN:VEVENT
UID:0fef024c-23c3-482d-a530-ff9260646700
DTSTAMP:20260420T173931Z
DESCRIPTION:PAX Tools is a collection of trauma-informed\, evidence-based b
 ehavioral strategies for families and communities to promote the developme
 nt of self-regulation of children in their lives. Caregivers who participa
 te in these workshops receive materials they need to effectively use PAX T
 ools with youth.
DTSTART;TZID=America/Chicago:20210407T110000
DTEND;TZID=America/Chicago:20210407T130000
LOCATION:https://us02web.zoom.us/meeting/register/tZcvcuCorzMpGNf6PvOcv-kzv
 BjwtdaqU6Nr
SUMMARY:PAX Tools Virtual Workshop
END:VEVENT
END:VCALENDAR
