BEGIN:VCALENDAR
VERSION:2.0
PRODID:-//envisionpartnerships.org//NONSGML kigkonsult.se iCalcreator 2.30.
 10//
CALSCALE:GREGORIAN
METHOD:PUBLISH
UID:6972e055-b041-4634-9ba0-2631fa82ca7b
X-WR-CALDESC:Through suicide-awareness events and trainings\, BCSPC seeks t
 o reduce stigma surrounding mental health and suicide within communities. 
 Join us for our first meetings of the new year as we seek to empower commu
 nities and individuals in Butler County.
X-WR-RELCALID:6e3b50b700f75b5cacd96f7de7742b83
X-WR-TIMEZONE:America/Chicago
BEGIN:VTIMEZONE
TZID:America/Chicago
BEGIN:STANDARD
TZNAME:CST
DTSTART:20201101T020000
TZOFFSETFROM:-0500
TZOFFSETTO:-0600
RDATE:20211107T020000
END:STANDARD
BEGIN:DAYLIGHT
TZNAME:CDT
DTSTART:20210314T020000
TZOFFSETFROM:-0600
TZOFFSETTO:-0500
RDATE:20220313T020000
END:DAYLIGHT
END:VTIMEZONE
BEGIN:VEVENT
UID:e2291c3e-4fc3-435b-8f1e-df5cc5db3400
DTSTAMP:20260420T190524Z
DESCRIPTION:Through suicide-awareness events and trainings\, BCSPC seeks to
  reduce stigma surrounding mental health and suicide within communities. J
 oin us for our first meetings of the new year as we seek to empower commun
 ities and individuals in Butler County.
DTSTART;TZID=America/Chicago:20210311T150000
DTEND;TZID=America/Chicago:20210311T163000
LOCATION:Meeting
SUMMARY:Butler County Suicide Prevention Coalition Meeting
END:VEVENT
END:VCALENDAR
