BEGIN:VCALENDAR
VERSION:2.0
PRODID:-//envisionpartnerships.org//NONSGML kigkonsult.se iCalcreator 2.30.
 10//
CALSCALE:GREGORIAN
METHOD:PUBLISH
UID:17924dd0-108e-4aef-a6c0-feb7763a90c8
X-WR-CALDESC:Through suicide-awareness events and trainings\, BCSPC seeks t
 o reduce stigma surrounding mental health and suicide within communities. 
 Join us for our first meetings of the new year as we seek to empower commu
 nities and individuals in Butler County.
X-WR-RELCALID:c1d0e51ce47c37da6e278d3f59a93f3a
X-WR-TIMEZONE:America/New_York
BEGIN:VTIMEZONE
TZID:America/New_York
BEGIN:STANDARD
TZNAME:EST
DTSTART:20201101T020000
TZOFFSETFROM:-0400
TZOFFSETTO:-0500
RDATE:20211107T020000
END:STANDARD
BEGIN:DAYLIGHT
TZNAME:EDT
DTSTART:20200308T020000
TZOFFSETFROM:-0500
TZOFFSETTO:-0400
RDATE:20210314T020000
RDATE:20220313T020000
END:DAYLIGHT
END:VTIMEZONE
BEGIN:VEVENT
UID:ae3628db-8de9-4eb9-ad0f-850122b10cc3
DTSTAMP:20260420T203217Z
DESCRIPTION:Through suicide-awareness events and trainings\, BCSPC seeks to
  reduce stigma surrounding mental health and suicide within communities. J
 oin us for our first meetings of the new year as we seek to empower commun
 ities and individuals in Butler County.
DTSTART;TZID=America/New_York:20210211T150000
DTEND;TZID=America/New_York:20210211T170000
LOCATION:Webinar
SUMMARY:Butler County Suicide Prevention Coalition Meeting
END:VEVENT
END:VCALENDAR
