BEGIN:VCALENDAR
VERSION:2.0
PRODID:-//envisionpartnerships.org//NONSGML kigkonsult.se iCalcreator 2.30.
 10//
CALSCALE:GREGORIAN
METHOD:PUBLISH
UID:202fa1c0-fb58-476b-8500-cda57771af2d
X-WR-CALDESC:PAX Tools is a collection of trauma-informed\, evidence-based 
 behavioral strategies for families and communities to promote the developm
 ent of self-regulation of children in their lives. Caregivers who particip
 ate in these workshops receive materials they need to effectively use PAX 
 Tools with youth.
X-WR-RELCALID:c9e804751f900b22625baaa8a31cfa1b
X-WR-TIMEZONE:America/Chicago
BEGIN:VTIMEZONE
TZID:America/Chicago
BEGIN:STANDARD
TZNAME:CST
DTSTART:20201101T020000
TZOFFSETFROM:-0500
TZOFFSETTO:-0600
RDATE:20211107T020000
END:STANDARD
BEGIN:DAYLIGHT
TZNAME:CDT
DTSTART:20200308T020000
TZOFFSETFROM:-0600
TZOFFSETTO:-0500
RDATE:20210314T020000
RDATE:20220313T020000
END:DAYLIGHT
END:VTIMEZONE
BEGIN:VEVENT
UID:d87f01c8-117a-49bf-a99a-f6b6a0ffdce4
DTSTAMP:20260420T203452Z
DESCRIPTION:PAX Tools is a collection of trauma-informed\, evidence-based b
 ehavioral strategies for families and communities to promote the developme
 nt of self-regulation of children in their lives. Caregivers who participa
 te in these workshops receive materials they need to effectively use PAX T
 ools with youth.
DTSTART;TZID=America/Chicago:20210210T183000
DTEND;TZID=America/Chicago:20210210T203000
LOCATION:https://us02web.zoom.us/meeting/register/tZctcumsqzgtGdQhi7OiT_kor
 kRs4hsmPZKq
SUMMARY:PAX Tools Virtual Workshop for Lakota Parents
END:VEVENT
END:VCALENDAR
