BEGIN:VCALENDAR
VERSION:2.0
PRODID:-//envisionpartnerships.org//NONSGML kigkonsult.se iCalcreator 2.30.
 10//
CALSCALE:GREGORIAN
METHOD:PUBLISH
UID:a6162f3f-0af4-4425-aa31-b01f581ff3bb
X-WR-CALDESC:
X-WR-RELCALID:7ab4928597c277956c432a418a317300
X-WR-TIMEZONE:America/New_York
BEGIN:VTIMEZONE
TZID:America/New_York
BEGIN:STANDARD
TZNAME:EST
DTSTART:20201101T020000
TZOFFSETFROM:-0400
TZOFFSETTO:-0500
RDATE:20211107T020000
END:STANDARD
BEGIN:DAYLIGHT
TZNAME:EDT
DTSTART:20200308T020000
TZOFFSETFROM:-0500
TZOFFSETTO:-0400
RDATE:20210314T020000
RDATE:20220313T020000
END:DAYLIGHT
END:VTIMEZONE
BEGIN:VEVENT
UID:15b94084-a027-4973-958c-f57aadfddf0f
DTSTAMP:20260420T235613Z
DESCRIPTION:
DTSTART;TZID=America/New_York:20201210T150000
DTEND;TZID=America/New_York:20201210T170000
LOCATION:https://us02web.zoom.us/j/85721330564
SUMMARY:Butler County Suicide Prevention Coalition Meeting
END:VEVENT
END:VCALENDAR
