BEGIN:VCALENDAR
VERSION:2.0
PRODID:-//envisionpartnerships.org//NONSGML kigkonsult.se iCalcreator 2.30.
 10//
CALSCALE:GREGORIAN
METHOD:PUBLISH
UID:376ca622-83cd-4d79-ae84-197b3013fdf2
X-WR-CALDESC:This program is geared towards college-aged individuals.who ha
 ve been court-referred for underage consumption and other related misdemea
 nors. Program topics include: alcohol and other drugs\, gambling\, impulse
  control\, personal goal setting\, victim empathy\, cost and legal issues\
 , and court mandated screening.
X-WR-RELCALID:85765de1606b26af2b50e5c6335dd804
X-WR-TIMEZONE:America/Chicago
BEGIN:VTIMEZONE
TZID:America/Chicago
BEGIN:STANDARD
TZNAME:CST
DTSTART:20201101T020000
TZOFFSETFROM:-0500
TZOFFSETTO:-0600
RDATE:20211107T020000
END:STANDARD
BEGIN:DAYLIGHT
TZNAME:CDT
DTSTART:20200308T020000
TZOFFSETFROM:-0600
TZOFFSETTO:-0500
RDATE:20210314T020000
RDATE:20220313T020000
END:DAYLIGHT
END:VTIMEZONE
BEGIN:VEVENT
UID:c57d7cc2-099e-4ea2-a013-b9803aefdd4a
DTSTAMP:20260420T231840Z
DESCRIPTION:This program is geared towards college-aged individuals.who hav
 e been court-referred for underage consumption and other related misdemean
 ors. Program topics include: alcohol and other drugs\, gambling\, impulse 
 control\, personal goal setting\, victim empathy\, cost and legal issues\,
  and court mandated screening.
DTSTART;TZID=America/Chicago:20201205T084500
DTEND;TZID=America/Chicago:20201205T171500
LOCATION:Oxford Courthouse 118 W. High Street Oxford\, OH 45056
SUMMARY:Risk Reduction Education Program
END:VEVENT
END:VCALENDAR
