BEGIN:VCALENDAR
VERSION:2.0
PRODID:-//envisionpartnerships.org//NONSGML kigkonsult.se iCalcreator 2.30.
 10//
CALSCALE:GREGORIAN
METHOD:PUBLISH
UID:510c8665-cbfe-403b-b3e9-2231da8037f6
X-WR-CALDESC:Quitting smoking isn’t easy. It takes time. And a plan. You do
 n’t have to stop smoking in one day. Start with day one. Let the Great Ame
 rican Smokeout event on the third Thursday in November be your day to star
 t your journey toward a smoke-free life. You’ll be joining thousands of pe
 ople who smoke across the country in taking an important step toward a hea
 lthier life and reducing your cancer risk. Plus\, the American Cancer Soci
 ety can help you access the resources and support you need to quit.
X-WR-RELCALID:3d0d26ff24d6a320b1d266bae4da3a0d
X-WR-TIMEZONE:America/New_York
BEGIN:VTIMEZONE
TZID:America/New_York
BEGIN:STANDARD
TZNAME:EST
DTSTART:20201101T020000
TZOFFSETFROM:-0400
TZOFFSETTO:-0500
RDATE:20211107T020000
END:STANDARD
BEGIN:DAYLIGHT
TZNAME:EDT
DTSTART:20200308T020000
TZOFFSETFROM:-0500
TZOFFSETTO:-0400
RDATE:20210314T020000
RDATE:20220313T020000
END:DAYLIGHT
END:VTIMEZONE
BEGIN:VEVENT
UID:1d1b4552-3738-4284-8894-f7413edfa8aa
DTSTAMP:20260421T010548Z
DESCRIPTION:Quitting smoking isn’t easy. It takes time. And a plan. You don
 ’t have to stop smoking in one day. Start with day one. Let the Great Amer
 ican Smokeout event on the third Thursday in November be your day to start
  your journey toward a smoke-free life. You’ll be joining thousands of peo
 ple who smoke across the country in taking an important step toward a heal
 thier life and reducing your cancer risk. Plus\, the American Cancer Socie
 ty can help you access the resources and support you need to quit.
DTSTART;TZID=America/New_York:20201119T000000
DTEND;TZID=America/New_York:20201119T235900
LOCATION:
SUMMARY:Great American Smokeout
END:VEVENT
END:VCALENDAR
