BEGIN:VCALENDAR
VERSION:2.0
PRODID:-//envisionpartnerships.org//NONSGML kigkonsult.se iCalcreator 2.30.
 10//
CALSCALE:GREGORIAN
METHOD:PUBLISH
UID:66569169-0dfe-4823-b7d7-318aebc3ea12
X-WR-CALDESC:
X-WR-RELCALID:13e4b35a96c80ee69110ea985fdcae31
X-WR-TIMEZONE:America/New_York
BEGIN:VTIMEZONE
TZID:America/New_York
BEGIN:STANDARD
TZNAME:EST
DTSTART:20201101T020000
TZOFFSETFROM:-0400
TZOFFSETTO:-0500
RDATE:20211107T020000
END:STANDARD
BEGIN:DAYLIGHT
TZNAME:EDT
DTSTART:20200308T020000
TZOFFSETFROM:-0500
TZOFFSETTO:-0400
RDATE:20210314T020000
RDATE:20220313T020000
END:DAYLIGHT
END:VTIMEZONE
BEGIN:VEVENT
UID:4ca0083a-5612-42fa-9f63-d1917259a8ac
DTSTAMP:20260421T010757Z
DESCRIPTION:
DTSTART;TZID=America/New_York:20201112T150000
DTEND;TZID=America/New_York:20201112T170000
LOCATION:https://us02web.zoom.us/j/85721330564
SUMMARY:Butler County Suicide Prevention Coalition Meeting
END:VEVENT
END:VCALENDAR
