BEGIN:VCALENDAR
VERSION:2.0
PRODID:-//envisionpartnerships.org//NONSGML kigkonsult.se iCalcreator 2.30.
 10//
CALSCALE:GREGORIAN
METHOD:PUBLISH
UID:456d7c2e-94ae-41c7-a9cd-d7aa5b341511
X-WR-CALDESC:This program is geared towards college-aged individuals.who ha
 ve been court-referred for underage consumption and other related misdemea
 nors. Program topics include: alcohol and other drugs\, gambling\, impulse
  control\, personal goal setting\, victim empathy\, cost and legal issues\
 , and court mandated screening.
X-WR-RELCALID:a7ae1e08f71c69e4a9e5c774030eb1dd
X-WR-TIMEZONE:America/Chicago
BEGIN:VTIMEZONE
TZID:America/Chicago
BEGIN:STANDARD
TZNAME:CST
DTSTART:20201101T020000
TZOFFSETFROM:-0500
TZOFFSETTO:-0600
RDATE:20211107T020000
END:STANDARD
BEGIN:DAYLIGHT
TZNAME:CDT
DTSTART:20200308T020000
TZOFFSETFROM:-0600
TZOFFSETTO:-0500
RDATE:20210314T020000
RDATE:20220313T020000
END:DAYLIGHT
END:VTIMEZONE
BEGIN:VEVENT
UID:77df7215-1d22-4240-a67e-80f0e1e4e1ae
DTSTAMP:20260421T010537Z
DESCRIPTION:This program is geared towards college-aged individuals.who hav
 e been court-referred for underage consumption and other related misdemean
 ors. Program topics include: alcohol and other drugs\, gambling\, impulse 
 control\, personal goal setting\, victim empathy\, cost and legal issues\,
  and court mandated screening.
DTSTART;TZID=America/Chicago:20201107T084500
DTEND;TZID=America/Chicago:20201107T171500
LOCATION:Oxford Courthouse 118 W. High Street Oxford\, OH 45056
SUMMARY:Risk Reduction Education Program
END:VEVENT
END:VCALENDAR
