BEGIN:VCALENDAR
VERSION:2.0
PRODID:-//envisionpartnerships.org//NONSGML kigkonsult.se iCalcreator 2.30.
 10//
CALSCALE:GREGORIAN
METHOD:PUBLISH
UID:4eb8ea56-fffc-44d2-855a-751234df1ab3
X-WR-CALDESC:Youth In Trouble: Recognizing The Signs of Suicide (QPR Gateke
 eper Training)\n\nCourse Description:\nQPR Gatekeeper training is a 90-min
 ute course that will equip in a clear\, concise format so participants can
  assist someone who is in a mental health crisis. Just like CPR\, QPR is a
 n emergency response to someone in crisis and can save lives. QPR (Questio
 n\, Persuade\, and Refer) is the most widely taught Gatekeeper training in
  the world. Participants are taught how to recognize the signs of suicide\
 , understand how to respond\, and know where to refer a person for profess
 ional help.\n\nCourse Objectives: \nDispel myths and decrease stigma aroun
 d suicide\nUnderstand risk factors and wall of resistance\nUnderstand rela
 tionship between access to means of suicide and rates of suicide\nRecogniz
 e warning signs and suicidal communications\nThe common causes of suicidal
  behavior \nHow to Question\, Persuade and Refer someone who may be suicid
 al\nPractice the personal courage and confidence it takes to question\, of
 fer hope\, persuade and refer someone in a suicidal crisis\nLearn how to a
 ccess community resources \nKnow that you have the power to help
X-WR-RELCALID:b04c401934e65817204436b7b4bae1f5
X-WR-TIMEZONE:America/New_York
BEGIN:VTIMEZONE
TZID:America/New_York
BEGIN:STANDARD
TZNAME:EST
DTSTART:20201101T020000
TZOFFSETFROM:-0400
TZOFFSETTO:-0500
RDATE:20211107T020000
END:STANDARD
BEGIN:DAYLIGHT
TZNAME:EDT
DTSTART:20200308T020000
TZOFFSETFROM:-0500
TZOFFSETTO:-0400
RDATE:20210314T020000
RDATE:20220313T020000
END:DAYLIGHT
END:VTIMEZONE
BEGIN:VEVENT
UID:a9fa29d3-1ff6-4684-80f5-4d0f1595a88f
DTSTAMP:20260421T010635Z
DESCRIPTION:Youth In Trouble: Recognizing The Signs of Suicide (QPR Gatekee
 per Training)\n\nCourse Description:\nQPR Gatekeeper training is a 90-minu
 te course that will equip in a clear\, concise format so participants can 
 assist someone who is in a mental health crisis. Just like CPR\, QPR is an
  emergency response to someone in crisis and can save lives. QPR (Question
 \, Persuade\, and Refer) is the most widely taught Gatekeeper training in 
 the world. Participants are taught how to recognize the signs of suicide\,
  understand how to respond\, and know where to refer a person for professi
 onal help.\n\nCourse Objectives: \nDispel myths and decrease stigma around
  suicide\nUnderstand risk factors and wall of resistance\nUnderstand relat
 ionship between access to means of suicide and rates of suicide\nRecognize
  warning signs and suicidal communications\nThe common causes of suicidal 
 behavior \nHow to Question\, Persuade and Refer someone who may be suicida
 l\nPractice the personal courage and confidence it takes to question\, off
 er hope\, persuade and refer someone in a suicidal crisis\nLearn how to ac
 cess community resources \nKnow that you have the power to help
DTSTART;TZID=America/New_York:20201105T160000
DTEND;TZID=America/New_York:20201105T173000
LOCATION:Webinar
SUMMARY:C3's Mental Health Workshop Series
END:VEVENT
END:VCALENDAR
