BEGIN:VCALENDAR
VERSION:2.0
PRODID:-//envisionpartnerships.org//NONSGML kigkonsult.se iCalcreator 2.30.
 10//
CALSCALE:GREGORIAN
METHOD:PUBLISH
UID:0f97a9b3-b346-4bc0-88c5-d994f2a0aefa
X-WR-CALDESC:
X-WR-RELCALID:d49f6fbeb56c3dc20a41f83e99dc29a1
X-WR-TIMEZONE:America/New_York
BEGIN:VTIMEZONE
TZID:America/New_York
BEGIN:STANDARD
TZNAME:EST
DTSTART:20191103T020000
TZOFFSETFROM:-0400
TZOFFSETTO:-0500
RDATE:20201101T020000
RDATE:20211107T020000
END:STANDARD
BEGIN:DAYLIGHT
TZNAME:EDT
DTSTART:20200308T020000
TZOFFSETFROM:-0500
TZOFFSETTO:-0400
RDATE:20210314T020000
RDATE:20220313T020000
END:DAYLIGHT
END:VTIMEZONE
BEGIN:VEVENT
UID:9219c599-4c7b-4e1f-b120-32aa0736b5d5
DTSTAMP:20260421T023606Z
DESCRIPTION:
DTSTART;TZID=America/New_York:20201008T150000
DTEND;TZID=America/New_York:20201008T170000
LOCATION:https://us02web.zoom.us/j/83140494248?pwd=NDU1c2x1NTRIV2tKSy81eGlN
 T0UrQT09
SUMMARY:Butler County Suicide Prevention Coalition Meeting
END:VEVENT
END:VCALENDAR
