BEGIN:VCALENDAR
VERSION:2.0
PRODID:-//envisionpartnerships.org//NONSGML kigkonsult.se iCalcreator 2.30.
 10//
CALSCALE:GREGORIAN
METHOD:PUBLISH
UID:98630e3b-ff35-413a-a969-efa590b18935
X-WR-CALDESC:A small group experience that allows individuals to fulfill co
 urt-mandated requirements. Its intent is to help individuals understand th
 e role that alcohol and other mood altering chemical substances play in th
 eir life and the issues with driving under the influence.\n
X-WR-RELCALID:40db1c2f769183d04a1bade381477a46
X-WR-TIMEZONE:America/Chicago
BEGIN:VTIMEZONE
TZID:America/Chicago
BEGIN:STANDARD
TZNAME:CST
DTSTART:20191103T020000
TZOFFSETFROM:-0500
TZOFFSETTO:-0600
RDATE:20201101T020000
RDATE:20211107T020000
END:STANDARD
BEGIN:DAYLIGHT
TZNAME:CDT
DTSTART:20200308T020000
TZOFFSETFROM:-0600
TZOFFSETTO:-0500
RDATE:20210314T020000
RDATE:20220313T020000
END:DAYLIGHT
END:VTIMEZONE
BEGIN:VEVENT
UID:eb6fce3a-0bf4-4df4-82d2-ab4a4d754035
DTSTAMP:20260421T023546Z
DESCRIPTION:A small group experience that allows individuals to fulfill cou
 rt-mandated requirements. Its intent is to help individuals understand the
  role that alcohol and other mood altering chemical substances play in the
 ir life and the issues with driving under the influence.\n
DTSTART;TZID=America/Chicago:20201008T000000
DTEND;TZID=America/Chicago:20201011T135900
LOCATION:DoubleTree Suites 6300 E. Kemper Road Sharonville\, OH 45241
SUMMARY:Access Ohio Drivers Intervention
END:VEVENT
END:VCALENDAR
