BEGIN:VCALENDAR
VERSION:2.0
PRODID:-//envisionpartnerships.org//NONSGML kigkonsult.se iCalcreator 2.30.
 10//
CALSCALE:GREGORIAN
METHOD:PUBLISH
UID:7ec2cf3c-dd14-4842-a816-eee4ce5c7ba0
X-WR-CALDESC:'The Petty Theft and Bad Check Writing Program is an education
 al intervention format for local offenders. It is an alternative to contin
 ued criminal prosecution at the discretion of the court.\n\nMany courts an
 d attorneys are using this format as an alternative to jail and criminal p
 rocessing of petty theft and bad check writing offenses.' (Access Ohio)
X-WR-RELCALID:36de3f5a66028ef3326483745bf6573b
X-WR-TIMEZONE:America/Chicago
BEGIN:VTIMEZONE
TZID:America/Chicago
BEGIN:STANDARD
TZNAME:CST
DTSTART:20191103T020000
TZOFFSETFROM:-0500
TZOFFSETTO:-0600
RDATE:20201101T020000
RDATE:20211107T020000
END:STANDARD
BEGIN:DAYLIGHT
TZNAME:CDT
DTSTART:20200308T020000
TZOFFSETFROM:-0600
TZOFFSETTO:-0500
RDATE:20210314T020000
RDATE:20220313T020000
END:DAYLIGHT
END:VTIMEZONE
BEGIN:VEVENT
UID:c629fbeb-aab7-4548-be2c-c59d949a4ed5
DTSTAMP:20260421T040143Z
DESCRIPTION:'The Petty Theft and Bad Check Writing Program is an educationa
 l intervention format for local offenders. It is an alternative to continu
 ed criminal prosecution at the discretion of the court.\n\nMany courts and
  attorneys are using this format as an alternative to jail and criminal pr
 ocessing of petty theft and bad check writing offenses.' (Access Ohio)
DTSTART;TZID=America/Chicago:20200923T120000
DTEND;TZID=America/Chicago:20200923T160000
LOCATION:Envision Partnerships 2935 Hamilton Mason Rd. Hamilton\, OH 45011
SUMMARY:Petty Theft & Bad Check Writing Program
END:VEVENT
END:VCALENDAR
