BEGIN:VCALENDAR
VERSION:2.0
PRODID:-//envisionpartnerships.org//NONSGML kigkonsult.se iCalcreator 2.30.
 10//
CALSCALE:GREGORIAN
METHOD:PUBLISH
UID:1f0e3605-c9e3-4a31-9497-ab03a231367b
X-WR-CALDESC:To remember those lost to suicide\, Envision Partnerships alon
 g with the Butler County Suicide Prevention Coalition is holding the secon
 d annual Walk to Remember. This years walk is going to look a little diffe
 rent\, with a virtual and in-person option! Join us on September 10th\, Wo
 rld Suicide Prevention Day at Pyramid Hill Sculpture Park. Walk the candle
 light route or experience it from your car -you can even watch it live on 
 Facebook!
X-WR-RELCALID:8a2518f25339c9a907cc26eae00c2506
X-WR-TIMEZONE:America/New_York
BEGIN:VTIMEZONE
TZID:America/New_York
BEGIN:STANDARD
TZNAME:EST
DTSTART:20191103T020000
TZOFFSETFROM:-0400
TZOFFSETTO:-0500
RDATE:20201101T020000
RDATE:20211107T020000
END:STANDARD
BEGIN:DAYLIGHT
TZNAME:EDT
DTSTART:20200308T020000
TZOFFSETFROM:-0500
TZOFFSETTO:-0400
RDATE:20210314T020000
END:DAYLIGHT
END:VTIMEZONE
BEGIN:VEVENT
UID:601683cc-fc15-4cb4-9506-4889767f0739
DTSTAMP:20260421T041236Z
DESCRIPTION:To remember those lost to suicide\, Envision Partnerships along
  with the Butler County Suicide Prevention Coalition is holding the second
  annual Walk to Remember. This years walk is going to look a little differ
 ent\, with a virtual and in-person option! Join us on September 10th\, Wor
 ld Suicide Prevention Day at Pyramid Hill Sculpture Park. Walk the candlel
 ight route or experience it from your car -you can even watch it live on F
 acebook!
DTSTART;TZID=America/New_York:20200910T180000
DTEND;TZID=America/New_York:20200910T200000
LOCATION:Pyramid Hill Sculpture Park
SUMMARY:Walk to Remember
END:VEVENT
END:VCALENDAR
