BEGIN:VCALENDAR
VERSION:2.0
PRODID:-//envisionpartnerships.org//NONSGML kigkonsult.se iCalcreator 2.30.
 10//
CALSCALE:GREGORIAN
METHOD:PUBLISH
UID:d25b70ac-6511-486f-810a-4dbe0895e908
X-WR-CALDESC:A small group experience that allows individuals to fulfill co
 urt-mandated requirements. Its intent is to help individuals understand th
 e role that alcohol and other mood altering chemical substances play in th
 eir life and the issues with driving under the influence.\n
X-WR-RELCALID:18cf0c359fd65c3fa9fda3b418a92fb3
X-WR-TIMEZONE:America/Chicago
BEGIN:VTIMEZONE
TZID:America/Chicago
BEGIN:STANDARD
TZNAME:CST
DTSTART:20191103T020000
TZOFFSETFROM:-0500
TZOFFSETTO:-0600
RDATE:20201101T020000
RDATE:20211107T020000
END:STANDARD
BEGIN:DAYLIGHT
TZNAME:CDT
DTSTART:20200308T020000
TZOFFSETFROM:-0600
TZOFFSETTO:-0500
RDATE:20210314T020000
END:DAYLIGHT
END:VTIMEZONE
BEGIN:VEVENT
UID:b0478de5-c8e4-4dd2-b73b-c8d435a9ad24
DTSTAMP:20260421T040749Z
DESCRIPTION:A small group experience that allows individuals to fulfill cou
 rt-mandated requirements. Its intent is to help individuals understand the
  role that alcohol and other mood altering chemical substances play in the
 ir life and the issues with driving under the influence.\n
DTSTART;TZID=America/Chicago:20200910T000000
DTEND;TZID=America/Chicago:20200913T145900
LOCATION:Four Points Hotel 7500 Tylers Place Blvd. West Chester\, OH 45069
SUMMARY:Access Ohio Drivers Intervention
END:VEVENT
END:VCALENDAR
