BEGIN:VCALENDAR
VERSION:2.0
PRODID:-//envisionpartnerships.org//NONSGML kigkonsult.se iCalcreator 2.30.
 10//
CALSCALE:GREGORIAN
METHOD:PUBLISH
UID:6f6ece9b-7d0f-4d37-bfa5-a8ee182fb868
X-WR-CALDESC:QPR\, or Question. Persuade. Refer. is an effective training t
 hat will prepare the participant to get someone in a mental health crisis 
 to help. This training is intended for adults. There is a youth-specific t
 raining that we also offer.\n
X-WR-RELCALID:3fc0bd4f554d17c69572c2bef827015a
X-WR-TIMEZONE:America/New_York
BEGIN:VTIMEZONE
TZID:America/New_York
BEGIN:STANDARD
TZNAME:EST
DTSTART:20191103T020000
TZOFFSETFROM:-0400
TZOFFSETTO:-0500
RDATE:20201101T020000
RDATE:20211107T020000
END:STANDARD
BEGIN:DAYLIGHT
TZNAME:EDT
DTSTART:20200308T020000
TZOFFSETFROM:-0500
TZOFFSETTO:-0400
RDATE:20210314T020000
END:DAYLIGHT
END:VTIMEZONE
BEGIN:VEVENT
UID:20a3ee0d-d402-4229-be87-935f2753bae9
DTSTAMP:20260421T054108Z
DESCRIPTION:QPR\, or Question. Persuade. Refer. is an effective training th
 at will prepare the participant to get someone in a mental health crisis t
 o help. This training is intended for adults. There is a youth-specific tr
 aining that we also offer.\n
DTSTART;TZID=America/New_York:20200818T100000
DTEND;TZID=America/New_York:20200818T113000
LOCATION:Webinar
SUMMARY:QPR Gatekeeper Training
END:VEVENT
END:VCALENDAR
