BEGIN:VCALENDAR
VERSION:2.0
PRODID:-//envisionpartnerships.org//NONSGML kigkonsult.se iCalcreator 2.30.
 10//
CALSCALE:GREGORIAN
METHOD:PUBLISH
UID:53b256d6-fda9-4404-8025-ef573f1e6df5
X-WR-CALDESC:In these trying times with families spending so much extra tim
 e at home with physical distancing\, distance learning\, remote work\, etc
 . parents are strained more than ever. PAX Tools is something that can hel
 p! Learn about PAX tools with this FREE webinar!
X-WR-RELCALID:ffa2609efa4f54137094a861e41791ef
X-WR-TIMEZONE:America/New_York
BEGIN:VTIMEZONE
TZID:America/New_York
BEGIN:STANDARD
TZNAME:EST
DTSTART:20191103T020000
TZOFFSETFROM:-0400
TZOFFSETTO:-0500
RDATE:20201101T020000
RDATE:20211107T020000
END:STANDARD
BEGIN:DAYLIGHT
TZNAME:EDT
DTSTART:20200308T020000
TZOFFSETFROM:-0500
TZOFFSETTO:-0400
RDATE:20210314T020000
END:DAYLIGHT
END:VTIMEZONE
BEGIN:VEVENT
UID:d30d5cb8-1d82-4890-9b89-7b8ef8a01c98
DTSTAMP:20260421T053009Z
DESCRIPTION:In these trying times with families spending so much extra time
  at home with physical distancing\, distance learning\, remote work\, etc.
  parents are strained more than ever. PAX Tools is something that can help
 ! Learn about PAX tools with this FREE webinar!
DTSTART;TZID=America/New_York:20200811T100000
DTEND;TZID=America/New_York:20200811T113000
LOCATION:Webinar
SUMMARY:PAX Tools Workshop
END:VEVENT
END:VCALENDAR
