BEGIN:VCALENDAR
VERSION:2.0
PRODID:-//envisionpartnerships.org//NONSGML kigkonsult.se iCalcreator 2.30.
 10//
CALSCALE:GREGORIAN
METHOD:PUBLISH
UID:5726c210-745c-4a73-bbdc-61480eaa8460
X-WR-CALDESC:A small group experience that allows individuals to fulfill co
 urt-mandated requirements. Its intent is to help individuals understand th
 e role that alcohol and other mood altering chemical substances play in th
 eir life and the issues with driving under the influence.\n
X-WR-RELCALID:f1ef5d9dd8e039258a6d8d613dadde89
X-WR-TIMEZONE:America/Chicago
BEGIN:VTIMEZONE
TZID:America/Chicago
BEGIN:STANDARD
TZNAME:CST
DTSTART:20191103T020000
TZOFFSETFROM:-0500
TZOFFSETTO:-0600
RDATE:20201101T020000
RDATE:20211107T020000
END:STANDARD
BEGIN:DAYLIGHT
TZNAME:CDT
DTSTART:20200308T020000
TZOFFSETFROM:-0600
TZOFFSETTO:-0500
RDATE:20210314T020000
END:DAYLIGHT
END:VTIMEZONE
BEGIN:VEVENT
UID:902dc721-bd83-4b9c-9fc3-904fd91c4378
DTSTAMP:20260421T053009Z
DESCRIPTION:A small group experience that allows individuals to fulfill cou
 rt-mandated requirements. Its intent is to help individuals understand the
  role that alcohol and other mood altering chemical substances play in the
 ir life and the issues with driving under the influence.\n
DTSTART;TZID=America/Chicago:20200806T000000
DTEND;TZID=America/Chicago:20200809T155900
LOCATION:Quality Hotel 5901 Pfeiffer Road Cincinnati\, OH 45242
SUMMARY:Access Ohio Drivers Intervention
END:VEVENT
END:VCALENDAR
