BEGIN:VCALENDAR
VERSION:2.0
PRODID:-//envisionpartnerships.org//NONSGML kigkonsult.se iCalcreator 2.30.
 10//
CALSCALE:GREGORIAN
METHOD:PUBLISH
UID:69d950d9-3662-4490-aa90-5d926e27ab6c
X-WR-CALDESC:
X-WR-RELCALID:80fee5fec1ea43cad4d3ba2f249fdfc8
X-WR-TIMEZONE:America/New_York
BEGIN:VTIMEZONE
TZID:America/New_York
BEGIN:STANDARD
TZNAME:EST
DTSTART:20191103T020000
TZOFFSETFROM:-0400
TZOFFSETTO:-0500
RDATE:20201101T020000
RDATE:20211107T020000
END:STANDARD
BEGIN:DAYLIGHT
TZNAME:EDT
DTSTART:20200308T020000
TZOFFSETFROM:-0500
TZOFFSETTO:-0400
RDATE:20210314T020000
END:DAYLIGHT
END:VTIMEZONE
BEGIN:VEVENT
UID:7223077a-4022-49ad-bc18-85b4242ec754
DTSTAMP:20260423T091137Z
DESCRIPTION:
DTSTART;TZID=America/New_York:20200613T090000
DTEND;TZID=America/New_York:20200613T173000
LOCATION:Anywhere
SUMMARY:8 Dimensions of Wellness Creative Arts Contest Deadline
END:VEVENT
END:VCALENDAR
