BEGIN:VCALENDAR
VERSION:2.0
PRODID:-//envisionpartnerships.org//NONSGML kigkonsult.se iCalcreator 2.30.
 10//
CALSCALE:GREGORIAN
METHOD:PUBLISH
UID:c8502e83-375d-4361-b658-6f2918f48155
X-WR-CALDESC:Come join us at the Butler County Suicide Prevention Coalition
  meeting!
X-WR-RELCALID:ac972f4101db43a5cf4d52b8c8bded05
X-WR-TIMEZONE:America/New_York
BEGIN:VTIMEZONE
TZID:America/New_York
BEGIN:STANDARD
TZNAME:EST
DTSTART:20191103T020000
TZOFFSETFROM:-0400
TZOFFSETTO:-0500
RDATE:20201101T020000
RDATE:20211107T020000
END:STANDARD
BEGIN:DAYLIGHT
TZNAME:EDT
DTSTART:20200308T020000
TZOFFSETFROM:-0500
TZOFFSETTO:-0400
RDATE:20210314T020000
END:DAYLIGHT
END:VTIMEZONE
BEGIN:VEVENT
UID:18ba7060-c898-445e-a803-26e6f7e26b18
DTSTAMP:20260421T083244Z
DESCRIPTION:Come join us at the Butler County Suicide Prevention Coalition 
 meeting!
DTSTART;TZID=America/New_York:20200611T150000
DTEND;TZID=America/New_York:20200611T163000
LOCATION:Envision Partnership 2935 Hamilton Mason Rd. Hamilton\, OH 45011
SUMMARY:Butler County Suicide Prevention Coalition Meeting
END:VEVENT
END:VCALENDAR
