BEGIN:VCALENDAR
VERSION:2.0
PRODID:-//envisionpartnerships.org//NONSGML kigkonsult.se iCalcreator 2.30.
 10//
CALSCALE:GREGORIAN
METHOD:PUBLISH
UID:84f3f8ae-be44-44de-add3-ffd83ff7762b
X-WR-CALDESC:QPR\, or Question. Persuade. Refer. is an effective training t
 hat will prepare the participant to get someone in a mental health crisis 
 to help. This training is intended for adults. There is a youth-specific t
 raining that we also offer.\n
X-WR-RELCALID:671ca56eb310ddfc4750125841555471
X-WR-TIMEZONE:America/Chicago
BEGIN:VTIMEZONE
TZID:America/Chicago
BEGIN:STANDARD
TZNAME:CST
DTSTART:20191103T020000
TZOFFSETFROM:-0500
TZOFFSETTO:-0600
RDATE:20201101T020000
RDATE:20211107T020000
END:STANDARD
BEGIN:DAYLIGHT
TZNAME:CDT
DTSTART:20200308T020000
TZOFFSETFROM:-0600
TZOFFSETTO:-0500
RDATE:20210314T020000
END:DAYLIGHT
END:VTIMEZONE
BEGIN:VEVENT
UID:1d92ae74-d440-41c9-aef6-8b9011244a22
DTSTAMP:20260421T083537Z
DESCRIPTION:QPR\, or Question. Persuade. Refer. is an effective training th
 at will prepare the participant to get someone in a mental health crisis t
 o help. This training is intended for adults. There is a youth-specific tr
 aining that we also offer.\n
DTSTART;TZID=America/Chicago:20200602T150000
DTEND;TZID=America/Chicago:20200602T170000
LOCATION:Webinar
SUMMARY:QPR Gatekeeper Training
END:VEVENT
END:VCALENDAR
