BEGIN:VCALENDAR
VERSION:2.0
PRODID:-//envisionpartnerships.org//NONSGML kigkonsult.se iCalcreator 2.30.
 10//
CALSCALE:GREGORIAN
METHOD:PUBLISH
UID:c4eea4ec-2750-4b28-b45d-c92299f3e2b7
X-WR-CALDESC:In these trying times with families spending so much extra tim
 e at home with physical distancing\, distance learning\, remote work\, etc
 . parents are strained more than ever. PAX Tools is something that can hel
 p! Learn about PAX tools with this FREE webinar!
X-WR-RELCALID:349c7909d720cf873ce2f2f62310afd4
X-WR-TIMEZONE:America/Chicago
BEGIN:VTIMEZONE
TZID:America/Chicago
BEGIN:STANDARD
TZNAME:CST
DTSTART:20191103T020000
TZOFFSETFROM:-0500
TZOFFSETTO:-0600
RDATE:20201101T020000
RDATE:20211107T020000
END:STANDARD
BEGIN:DAYLIGHT
TZNAME:CDT
DTSTART:20200308T020000
TZOFFSETFROM:-0600
TZOFFSETTO:-0500
RDATE:20210314T020000
END:DAYLIGHT
END:VTIMEZONE
BEGIN:VEVENT
UID:60fa81cd-3160-4123-a5b3-9537ff53a76c
DTSTAMP:20260421T083844Z
DESCRIPTION:In these trying times with families spending so much extra time
  at home with physical distancing\, distance learning\, remote work\, etc.
  parents are strained more than ever. PAX Tools is something that can help
 ! Learn about PAX tools with this FREE webinar!
DTSTART;TZID=America/Chicago:20200601T103000
DTEND;TZID=America/Chicago:20200601T120000
LOCATION:Webinar
SUMMARY:PAX Tools Workshop
END:VEVENT
END:VCALENDAR
