BEGIN:VCALENDAR
VERSION:2.0
PRODID:-//envisionpartnerships.org//NONSGML kigkonsult.se iCalcreator 2.30.
 10//
CALSCALE:GREGORIAN
METHOD:PUBLISH
UID:3756f3bf-a2c1-4b0b-8ae9-4248a3677e60
X-WR-CALDESC:QPR\, or Question. Persuade. Refer. is an effective training t
 hat will prepare the participant to get someone in a mental health crisis 
 to help. This training is intended for adults. There is a youth-specific t
 raining that we also offer.\n
X-WR-RELCALID:86cdc66e6d5bcfd3c13f6f56b8f7a1ff
X-WR-TIMEZONE:America/Chicago
BEGIN:VTIMEZONE
TZID:America/Chicago
BEGIN:STANDARD
TZNAME:CST
DTSTART:20191103T020000
TZOFFSETFROM:-0500
TZOFFSETTO:-0600
RDATE:20201101T020000
END:STANDARD
BEGIN:DAYLIGHT
TZNAME:CDT
DTSTART:20200308T020000
TZOFFSETFROM:-0600
TZOFFSETTO:-0500
RDATE:20210314T020000
END:DAYLIGHT
END:VTIMEZONE
BEGIN:VEVENT
UID:dc7c4b97-efec-41bd-a530-3421b772e9a6
DTSTAMP:20260421T103307Z
DESCRIPTION:QPR\, or Question. Persuade. Refer. is an effective training th
 at will prepare the participant to get someone in a mental health crisis t
 o help. This training is intended for adults. There is a youth-specific tr
 aining that we also offer.\n
DTSTART;TZID=America/Chicago:20200507T100000
DTEND;TZID=America/Chicago:20200507T120000
LOCATION:Webinar
SUMMARY:QPR Gatekeeper Training
END:VEVENT
END:VCALENDAR
