BEGIN:VCALENDAR
VERSION:2.0
PRODID:-//envisionpartnerships.org//NONSGML kigkonsult.se iCalcreator 2.30.
 10//
CALSCALE:GREGORIAN
METHOD:PUBLISH
UID:e5e2b75f-b71a-48c9-9cf0-b06709c8ce48
X-WR-CALDESC:In these trying times with families spending so much extra tim
 e at home with physical distancing\, distance learning\, remote work\, etc
 . parents are strained more than ever. PAX Tools is something that can hel
 p! Learn about PAX tools with this FREE webinar!
X-WR-RELCALID:f0da6b7cef3773a8745678ce773c7ee3
X-WR-TIMEZONE:America/Chicago
BEGIN:VTIMEZONE
TZID:America/Chicago
BEGIN:STANDARD
TZNAME:CST
DTSTART:20191103T020000
TZOFFSETFROM:-0500
TZOFFSETTO:-0600
RDATE:20201101T020000
END:STANDARD
BEGIN:DAYLIGHT
TZNAME:CDT
DTSTART:20200308T020000
TZOFFSETFROM:-0600
TZOFFSETTO:-0500
RDATE:20210314T020000
END:DAYLIGHT
END:VTIMEZONE
BEGIN:VEVENT
UID:1ff630ff-23aa-4b35-aef0-b9c33a339993
DTSTAMP:20260423T103749Z
DESCRIPTION:In these trying times with families spending so much extra time
  at home with physical distancing\, distance learning\, remote work\, etc.
  parents are strained more than ever. PAX Tools is something that can help
 ! Learn about PAX tools with this FREE webinar!
DTSTART;TZID=America/Chicago:20200506T140000
DTEND;TZID=America/Chicago:20200506T160000
LOCATION:Webinar
SUMMARY:PAX Tools Workshop
END:VEVENT
END:VCALENDAR
