BEGIN:VCALENDAR
VERSION:2.0
PRODID:-//envisionpartnerships.org//NONSGML kigkonsult.se iCalcreator 2.30.
 10//
CALSCALE:GREGORIAN
METHOD:PUBLISH
UID:9545627b-f9bf-4b91-b35d-d585dfcd2671
X-WR-CALDESC:This program is geared towards college-aged individuals.who ha
 ve been court-referred for underage consumption and other related misdemea
 nors. Program topics include: alcohol and other drugs\, gambling\, impulse
  control\, personal goal setting\, victim empathy\, cost and legal issues\
 , and court mandated screening.
X-WR-RELCALID:5b714f920a5459080c6e8acc8c550276
X-WR-TIMEZONE:America/Chicago
BEGIN:VTIMEZONE
TZID:America/Chicago
BEGIN:STANDARD
TZNAME:CST
DTSTART:20191103T020000
TZOFFSETFROM:-0500
TZOFFSETTO:-0600
RDATE:20201101T020000
END:STANDARD
BEGIN:DAYLIGHT
TZNAME:CDT
DTSTART:20200308T020000
TZOFFSETFROM:-0600
TZOFFSETTO:-0500
RDATE:20210314T020000
END:DAYLIGHT
END:VTIMEZONE
BEGIN:VEVENT
UID:e9d23992-9bcf-45d1-9d89-3efcb3c37655
DTSTAMP:20260421T101552Z
DESCRIPTION:This program is geared towards college-aged individuals.who hav
 e been court-referred for underage consumption and other related misdemean
 ors. Program topics include: alcohol and other drugs\, gambling\, impulse 
 control\, personal goal setting\, victim empathy\, cost and legal issues\,
  and court mandated screening.
DTSTART;TZID=America/Chicago:20200504T090000
DTEND;TZID=America/Chicago:20200504T120000
LOCATION:Oxford Courthouse 118 W. High Street Oxford\, OH 45056
SUMMARY:Risk Reduction Education Program
END:VEVENT
END:VCALENDAR
