BEGIN:VCALENDAR
VERSION:2.0
PRODID:-//envisionpartnerships.org//NONSGML kigkonsult.se iCalcreator 2.30.
 10//
CALSCALE:GREGORIAN
METHOD:PUBLISH
UID:5dbef59c-ad42-4fcf-a73f-29aa0a3628bd
X-WR-CALDESC:Happy Earth Day! Have your kids or students hit the pavement w
 ith chalk yet? Now's the time to get outside and get creative in the 'Chal
 k it up to PAX' Challenge! Upload pictures of their work to Facebook and b
 e sure to tag us @EnvisionPartnerships by May 4th! We will share pictures 
 of some standout creations to our page!
X-WR-RELCALID:04fcd51a13b33adbe6d14295b3717352
X-WR-TIMEZONE:America/New_York
BEGIN:VTIMEZONE
TZID:America/New_York
BEGIN:STANDARD
TZNAME:EST
DTSTART:20191103T020000
TZOFFSETFROM:-0400
TZOFFSETTO:-0500
RDATE:20201101T020000
END:STANDARD
BEGIN:DAYLIGHT
TZNAME:EDT
DTSTART:20200308T020000
TZOFFSETFROM:-0500
TZOFFSETTO:-0400
RDATE:20210314T020000
END:DAYLIGHT
END:VTIMEZONE
BEGIN:VEVENT
UID:247787af-1cbd-4c01-ad89-a27f5fff2247
DTSTAMP:20260423T103606Z
DESCRIPTION:Happy Earth Day! Have your kids or students hit the pavement wi
 th chalk yet? Now's the time to get outside and get creative in the 'Chalk
  it up to PAX' Challenge! Upload pictures of their work to Facebook and be
  sure to tag us @EnvisionPartnerships by May 4th! We will share pictures o
 f some standout creations to our page!
DTSTART;TZID=America/New_York:20200504T000000
DTEND;TZID=America/New_York:20200504T235900
LOCATION:Anywhere
SUMMARY:Chalk it up to PAX (Deadline)
END:VEVENT
END:VCALENDAR
