BEGIN:VCALENDAR
VERSION:2.0
PRODID:-//envisionpartnerships.org//NONSGML kigkonsult.se iCalcreator 2.30.
 10//
CALSCALE:GREGORIAN
METHOD:PUBLISH
UID:05fb5ac0-0e37-46b7-a0db-bd19bcc69fd7
X-WR-CALDESC:In these trying times with families spending so much extra tim
 e at home with physical distancing\, distance learning\, remote work\, etc
 . parents are strained more than ever. PAX Tools is something that can hel
 p!\n\n
X-WR-RELCALID:cf53e72e6688fffd2e322eadfc0728cb
X-WR-TIMEZONE:America/New_York
BEGIN:VTIMEZONE
TZID:America/New_York
BEGIN:STANDARD
TZNAME:EST
DTSTART:20191103T020000
TZOFFSETFROM:-0400
TZOFFSETTO:-0500
RDATE:20201101T020000
END:STANDARD
BEGIN:DAYLIGHT
TZNAME:EDT
DTSTART:20200308T020000
TZOFFSETFROM:-0500
TZOFFSETTO:-0400
RDATE:20210314T020000
END:DAYLIGHT
END:VTIMEZONE
BEGIN:VEVENT
UID:d21ec60f-e99b-4508-b2e0-97f0b8f89a80
DTSTAMP:20260421T101800Z
DESCRIPTION:In these trying times with families spending so much extra time
  at home with physical distancing\, distance learning\, remote work\, etc.
  parents are strained more than ever. PAX Tools is something that can help
 !\n\n
DTSTART;TZID=America/New_York:20200502T100000
DTEND;TZID=America/New_York:20200502T113000
LOCATION:Webinar
SUMMARY:PAX Tools Workshop
END:VEVENT
END:VCALENDAR
