BEGIN:VCALENDAR
VERSION:2.0
PRODID:-//envisionpartnerships.org//NONSGML kigkonsult.se iCalcreator 2.30.
 10//
CALSCALE:GREGORIAN
METHOD:PUBLISH
UID:173505f6-34c1-491b-822e-85c43ffb94d6
X-WR-CALDESC:In these trying times with families spending so much extra tim
 e at home with physical distancing\, distance learning\, remote work\, etc
 . parents are strained more than ever. PAX Tools is something that can hel
 p!\n\n
X-WR-RELCALID:4b58a48e08a4aa0648b287bf3c54ab7f
X-WR-TIMEZONE:America/New_York
BEGIN:VTIMEZONE
TZID:America/New_York
BEGIN:STANDARD
TZNAME:EST
DTSTART:20191103T020000
TZOFFSETFROM:-0400
TZOFFSETTO:-0500
RDATE:20201101T020000
END:STANDARD
BEGIN:DAYLIGHT
TZNAME:EDT
DTSTART:20200308T020000
TZOFFSETFROM:-0500
TZOFFSETTO:-0400
RDATE:20210314T020000
END:DAYLIGHT
END:VTIMEZONE
BEGIN:VEVENT
UID:a28d58a3-3490-4f80-995f-2b1e6d62b848
DTSTAMP:20260421T120210Z
DESCRIPTION:In these trying times with families spending so much extra time
  at home with physical distancing\, distance learning\, remote work\, etc.
  parents are strained more than ever. PAX Tools is something that can help
 !\n\n
DTSTART;TZID=America/New_York:20200416T150000
DTEND;TZID=America/New_York:20200416T163000
LOCATION:Webinar
SUMMARY:PAX Tools Workshop
END:VEVENT
END:VCALENDAR
