BEGIN:VCALENDAR
VERSION:2.0
PRODID:-//envisionpartnerships.org//NONSGML kigkonsult.se iCalcreator 2.30.
 10//
CALSCALE:GREGORIAN
METHOD:PUBLISH
UID:390986c8-f02f-4392-b2bb-973c8b599830
X-WR-CALDESC:Come join us at the Butler County Suicide Prevention Coalition
  meeting!
X-WR-RELCALID:7fde17e86c86686f339b371ebff6b7a5
X-WR-TIMEZONE:America/New_York
BEGIN:VTIMEZONE
TZID:America/New_York
BEGIN:STANDARD
TZNAME:EST
DTSTART:20191103T020000
TZOFFSETFROM:-0400
TZOFFSETTO:-0500
RDATE:20201101T020000
END:STANDARD
BEGIN:DAYLIGHT
TZNAME:EDT
DTSTART:20200308T020000
TZOFFSETFROM:-0500
TZOFFSETTO:-0400
RDATE:20210314T020000
END:DAYLIGHT
END:VTIMEZONE
BEGIN:VEVENT
UID:9f2f0625-9884-4ec1-b60b-d6ade801ab21
DTSTAMP:20260421T134802Z
DESCRIPTION:Come join us at the Butler County Suicide Prevention Coalition 
 meeting!
DTSTART;TZID=America/New_York:20200312T150000
DTEND;TZID=America/New_York:20200312T163000
LOCATION:Envision Partnership 2935 Hamilton Mason Rd. Hamilton\, OH 45011
SUMMARY:Butler County Suicide Prevention Coalition Meeting
END:VEVENT
END:VCALENDAR
