BEGIN:VCALENDAR
VERSION:2.0
PRODID:-//envisionpartnerships.org//NONSGML kigkonsult.se iCalcreator 2.30.
 10//
CALSCALE:GREGORIAN
METHOD:PUBLISH
UID:e0307d7c-5ae7-491a-b4b0-f22ffda62815
X-WR-CALDESC:This program is geared towards college-aged individuals.who ha
 ve been court-referred for underage consumption and other related misdemea
 nors. Program topics include: alcohol and other drugs\, gambling\, impulse
  control\, personal goal setting\, victim empathy\, cost and legal issues\
 , and court mandated screening.
X-WR-RELCALID:5c21f87adc37639329f9158b15a39ada
X-WR-TIMEZONE:America/Chicago
BEGIN:VTIMEZONE
TZID:America/Chicago
BEGIN:STANDARD
TZNAME:CST
DTSTART:20191103T020000
TZOFFSETFROM:-0500
TZOFFSETTO:-0600
RDATE:20201101T020000
END:STANDARD
BEGIN:DAYLIGHT
TZNAME:CDT
DTSTART:20190310T020000
TZOFFSETFROM:-0600
TZOFFSETTO:-0500
RDATE:20200308T020000
RDATE:20210314T020000
END:DAYLIGHT
END:VTIMEZONE
BEGIN:VEVENT
UID:ce0d2621-ebac-410e-9556-fe9db1d86278
DTSTAMP:20260421T183238Z
DESCRIPTION:This program is geared towards college-aged individuals.who hav
 e been court-referred for underage consumption and other related misdemean
 ors. Program topics include: alcohol and other drugs\, gambling\, impulse 
 control\, personal goal setting\, victim empathy\, cost and legal issues\,
  and court mandated screening.
DTSTART;TZID=America/Chicago:20191214T084500
DTEND;TZID=America/Chicago:20191214T171500
LOCATION:TBD
SUMMARY:Risk Reduction Education Program
END:VEVENT
END:VCALENDAR
