BEGIN:VCALENDAR
VERSION:2.0
PRODID:-//envisionpartnerships.org//NONSGML kigkonsult.se iCalcreator 2.30.
 10//
CALSCALE:GREGORIAN
METHOD:PUBLISH
UID:7e1af9c6-e0fd-4505-9ce4-3dd95adc0fa7
X-WR-CALDESC:
X-WR-RELCALID:c0bae00ad1f89ff268007dacd30141bb
X-WR-TIMEZONE:America/Chicago
BEGIN:VTIMEZONE
TZID:America/Chicago
BEGIN:STANDARD
TZNAME:CST
DTSTART:20191103T020000
TZOFFSETFROM:-0500
TZOFFSETTO:-0600
RDATE:20201101T020000
END:STANDARD
BEGIN:DAYLIGHT
TZNAME:CDT
DTSTART:20190310T020000
TZOFFSETFROM:-0600
TZOFFSETTO:-0500
RDATE:20200308T020000
RDATE:20210314T020000
END:DAYLIGHT
END:VTIMEZONE
BEGIN:VEVENT
UID:2506df7c-cf2e-43c3-b3cd-b1abcd34d258
DTSTAMP:20260421T182835Z
DESCRIPTION:
DTSTART;TZID=America/Chicago:20191207T110000
DTEND;TZID=America/Chicago:20191207T140000
LOCATION:Liberty Center\, Sabin Hall  7650 LIberty Way  Liberty Township\, 
 OH 45069
SUMMARY:Empty Bowls Event
END:VEVENT
END:VCALENDAR
