BEGIN:VCALENDAR
VERSION:2.0
PRODID:-//envisionpartnerships.org//NONSGML kigkonsult.se iCalcreator 2.30.
 10//
CALSCALE:GREGORIAN
METHOD:PUBLISH
UID:d3f0851e-7ae8-4ff1-8c97-ed3838da6b55
X-WR-CALDESC:'Let the Great American Smokeout event on November 21 be your 
 day to start your journey toward a smoke-free life. You’ll be joining thou
 sands of people who smoke across the country in taking an important step t
 oward a healthier life and reducing your cancer risk.' -American Cancer So
 ciety
X-WR-RELCALID:54cb3f35955e7d9766a09d2db27ac4ae
X-WR-TIMEZONE:America/Chicago
BEGIN:VTIMEZONE
TZID:America/Chicago
BEGIN:STANDARD
TZNAME:CST
DTSTART:20191103T020000
TZOFFSETFROM:-0500
TZOFFSETTO:-0600
RDATE:20201101T020000
END:STANDARD
BEGIN:DAYLIGHT
TZNAME:CDT
DTSTART:20190310T020000
TZOFFSETFROM:-0600
TZOFFSETTO:-0500
RDATE:20200308T020000
RDATE:20210314T020000
END:DAYLIGHT
END:VTIMEZONE
BEGIN:VEVENT
UID:8849f3da-0544-409a-8e7e-ac4055f3bda2
DTSTAMP:20260421T195727Z
DESCRIPTION:'Let the Great American Smokeout event on November 21 be your d
 ay to start your journey toward a smoke-free life. You’ll be joining thous
 ands of people who smoke across the country in taking an important step to
 ward a healthier life and reducing your cancer risk.' -American Cancer Soc
 iety
DTSTART;TZID=America/Chicago:20191121T000000
DTEND;TZID=America/Chicago:20191121T235900
LOCATION:Anywhere
SUMMARY:Great American Smokeout
END:VEVENT
END:VCALENDAR
