BEGIN:VCALENDAR
VERSION:2.0
PRODID:-//envisionpartnerships.org//NONSGML kigkonsult.se iCalcreator 2.30.
 10//
CALSCALE:GREGORIAN
METHOD:PUBLISH
UID:0f337b6f-407f-48b1-9c3d-e7e0b970e0b6
X-WR-CALDESC:It's here! Envision Partnerships is happy to announce the laun
 ch of our new website. Hope you like it as much as we do!
X-WR-RELCALID:4fbc843d1712580e1fc45ffd1a7ce141
X-WR-TIMEZONE:America/Chicago
BEGIN:VTIMEZONE
TZID:America/Chicago
BEGIN:STANDARD
TZNAME:CST
DTSTART:20181104T020000
TZOFFSETFROM:-0500
TZOFFSETTO:-0600
RDATE:20191103T020000
RDATE:20201101T020000
END:STANDARD
BEGIN:DAYLIGHT
TZNAME:CDT
DTSTART:20190310T020000
TZOFFSETFROM:-0600
TZOFFSETTO:-0500
RDATE:20200308T020000
RDATE:20210314T020000
END:DAYLIGHT
END:VTIMEZONE
BEGIN:VEVENT
UID:77ba7406-9434-4889-bc13-965fb8e18429
DTSTAMP:20260421T211516Z
DESCRIPTION:It's here! Envision Partnerships is happy to announce the launc
 h of our new website. Hope you like it as much as we do!
DTSTART;TZID=America/Chicago:20191031T000000
DTEND;TZID=America/Chicago:20191031T235900
LOCATION:
SUMMARY:Envision Website Launch
END:VEVENT
END:VCALENDAR
