BEGIN:VCALENDAR
VERSION:2.0
PRODID:-//envisionpartnerships.org//NONSGML kigkonsult.se iCalcreator 2.30.
 10//
CALSCALE:GREGORIAN
METHOD:PUBLISH
UID:25bb9a28-d2fa-4416-b7d5-b4bb31078a39
X-WR-CALDESC:Healthy Hamilton Initiative is all about building healthy habi
 ts through community over time. This month's activity is about exploring t
 he great outdoors in the heart of Hamilton. Families\, friends\, and neigh
 bors are encouraged to join us for a walk through Miami Woods and witness 
 the changing fall colors. Dogs are welcome if they are friendly and on a l
 eash.
X-WR-RELCALID:518b49adef9640df34002226a47da4d0
X-WR-TIMEZONE:America/New_York
BEGIN:VTIMEZONE
TZID:America/New_York
BEGIN:STANDARD
TZNAME:EST
DTSTART:20181104T020000
TZOFFSETFROM:-0400
TZOFFSETTO:-0500
RDATE:20191103T020000
RDATE:20201101T020000
END:STANDARD
BEGIN:DAYLIGHT
TZNAME:EDT
DTSTART:20190310T020000
TZOFFSETFROM:-0500
TZOFFSETTO:-0400
RDATE:20200308T020000
END:DAYLIGHT
END:VTIMEZONE
BEGIN:VEVENT
UID:20adc932-4e6b-459c-8546-48096224d92e
DTSTAMP:20260421T224544Z
DESCRIPTION:Healthy Hamilton Initiative is all about building healthy habit
 s through community over time. This month's activity is about exploring th
 e great outdoors in the heart of Hamilton. Families\, friends\, and neighb
 ors are encouraged to join us for a walk through Miami Woods and witness t
 he changing fall colors. Dogs are welcome if they are friendly and on a le
 ash.
DTSTART;TZID=America/New_York:20190907T100000
DTEND;TZID=America/New_York:20190907T113000
LOCATION:Miami Woods Park\, 450 New London Rd.\, Hamilton\, OH 45013
SUMMARY:Healthy Hamilton
END:VEVENT
END:VCALENDAR
